BEGIN:VCALENDAR
VERSION:2.0
PRODID:-//TRL New Jersey - ECPv6.15.20//NONSGML v1.0//EN
CALSCALE:GREGORIAN
METHOD:PUBLISH
X-ORIGINAL-URL:https://nj.thereadingleague.org
X-WR-CALDESC:Events for TRL New Jersey
REFRESH-INTERVAL;VALUE=DURATION:PT1H
X-Robots-Tag:noindex
X-PUBLISHED-TTL:PT1H
BEGIN:VTIMEZONE
TZID:UTC
BEGIN:STANDARD
TZOFFSETFROM:+0000
TZOFFSETTO:+0000
TZNAME:UTC
DTSTART:20210101T000000
END:STANDARD
END:VTIMEZONE
BEGIN:VEVENT
DTSTART;TZID=UTC:20221215T150000
DTEND;TZID=UTC:20221215T160000
DTSTAMP:20260419T091300
CREATED:20221106T183359Z
LAST-MODIFIED:20221205T161452Z
UID:10000028-1671116400-1671120000@nj.thereadingleague.org
SUMMARY:New Online Resources for Advancing Multi-Tiered Early Reading Supports in New Jersey
DESCRIPTION:Join TRL NJ for a deep dive into the new online resources available to educators to facilitate implementation of the New Jersey Tiered Systems of Support for Early Reading (NJTSS-ER). TRL board member and Rutgers director for the NJTSS-ER initiative\, Dr. Todd Glover\, will highlight new online courses\, action planning tools\, and materials for building foundational knowledge and advancing integration of NJTSS-ER components in schools.New Jersey Tiered Systems of Support for Early Reading (NJTSS-ER). TRL board member and Rutgers director for the NJTSS-ER initiative\, Dr. Todd Glover\, will highlight new online courses\, action planning tools\, and materials for building foundational knowledge and advancing integration of NJTSS-ER components in schools.
URL:https://nj.thereadingleague.org/calendar/new-online-resources-for-advancing-multi-tiered-early-reading-supports-in-new-jersey/
END:VEVENT
END:VCALENDAR